BEGIN:VCALENDAR
PRODID:-//eluceo/ical//2.0/EN
VERSION:2.0
CALSCALE:GREGORIAN
BEGIN:VEVENT
UID:aed77284fa726de02197ac9e66fcff22
DTSTAMP:20260423T023750Z
SUMMARY:HDH Welcome Back Luncheon
DESCRIPTION:Jewish Federation of Greater Naples\nCommunity Calendar\nhttps:
 //jewishnaples.org/calendar/hdh-welcome-back-luncheon\n\nCollier/Lee Chapt
 er of Hadassah-  Welcome Back Luncheon 
DTSTART;TZID=America/New_York:20181030T104500
DTEND;TZID=America/New_York:20181030T124500
END:VEVENT
END:VCALENDAR
