BEGIN:VCALENDAR
PRODID:-//eluceo/ical//2.0/EN
VERSION:2.0
CALSCALE:GREGORIAN
BEGIN:VEVENT
UID:fd65102c4b8f603c65164c2ca6eec64e
DTSTAMP:20260423T133701Z
SUMMARY:HDH Understanding LGBTQ Issues
DESCRIPTION:Jewish Federation of Greater Naples\nCommunity Calendar\nhttps:
 //jewishnaples.org/calendar/hdh-understanding-lgbtq-issues-1616604732\n\nA
  panel of experts and family members share their knowledge and experiences
  and answer audience's questions.
DTSTART;TZID=America/New_York:20210603T223000
DTEND;TZID=America/New_York:20210603T235900
END:VEVENT
END:VCALENDAR
