BEGIN:VCALENDAR
PRODID:-//eluceo/ical//2.0/EN
VERSION:2.0
CALSCALE:GREGORIAN
BEGIN:VEVENT
UID:63085fdbd6b23ba077a202401d21384e
DTSTAMP:20260422T222815Z
SUMMARY:HDH study group Sept.
DESCRIPTION:Jewish Federation of Greater Naples\nCommunity Calendar\nhttps:
 //jewishnaples.org/calendar/hdh-study-group-sept\n\nHadassah Study Group
DTSTART;TZID=America/New_York:20160919T130000
DTEND;TZID=America/New_York:20160919T130000
END:VEVENT
END:VCALENDAR
