BEGIN:VCALENDAR
PRODID:-//eluceo/ical//2.0/EN
VERSION:2.0
CALSCALE:GREGORIAN
BEGIN:VEVENT
UID:f5534b32b46eff89755349bb3a77b016
DTSTAMP:20260423T040216Z
SUMMARY:HDH Study Group Oct.
DESCRIPTION:Jewish Federation of Greater Naples\nCommunity Calendar\nhttps:
 //jewishnaples.org/calendar/hdh-study-group-oct\n\nHadassah Study Group
DTSTART;TZID=America/New_York:20161018T130000
DTEND;TZID=America/New_York:20161018T130000
END:VEVENT
END:VCALENDAR
