BEGIN:VCALENDAR
PRODID:-//eluceo/ical//2.0/EN
VERSION:2.0
CALSCALE:GREGORIAN
BEGIN:VEVENT
UID:59d997f8503b04f80bf1f285ab82334e
DTSTAMP:20260423T201559Z
SUMMARY:HDH Spring Luncheon and Meeting
DESCRIPTION:Jewish Federation of Greater Naples\nCommunity Calendar\nhttps:
 //jewishnaples.org/calendar/hdh-spring-luncheon-and-meeting\n\nHadassah Sp
 ring Luncheon and Meeting\nat JFGN
DTSTART;TZID=America/New_York:20250324T103000
DTEND;TZID=America/New_York:20250324T123000
END:VEVENT
END:VCALENDAR
