BEGIN:VCALENDAR
PRODID:-//eluceo/ical//2.0/EN
VERSION:2.0
CALSCALE:GREGORIAN
BEGIN:VEVENT
UID:ad9fb6713477aa2b2960a8229c8d2fbc
DTSTAMP:20260424T150631Z
SUMMARY:HDH Spring Luncheon
DESCRIPTION:Jewish Federation of Greater Naples\nCommunity Calendar\nhttps:
 //jewishnaples.org/calendar/hdh-spring-luncheon-1557772739\n\nHadassah Spr
 ing Luncheon and Meeting
DTSTART;TZID=America/New_York:20200316T104500
DTEND;TZID=America/New_York:20200316T140000
END:VEVENT
END:VCALENDAR
