BEGIN:VCALENDAR
PRODID:-//eluceo/ical//2.0/EN
VERSION:2.0
CALSCALE:GREGORIAN
BEGIN:VEVENT
UID:1c2a96e93aeb8426d0609d332f9d0570
DTSTAMP:20260423T180330Z
SUMMARY:HDH Speaker Event
DESCRIPTION:Jewish Federation of Greater Naples\nCommunity Calendar\nhttps:
 //jewishnaples.org/calendar/hdh-speaker-event\n\nHadassah
DTSTART;TZID=America/New_York:20161214T130000
DTEND;TZID=America/New_York:20161214T130000
END:VEVENT
END:VCALENDAR
