BEGIN:VCALENDAR
PRODID:-//eluceo/ical//2.0/EN
VERSION:2.0
CALSCALE:GREGORIAN
BEGIN:VEVENT
UID:ef4050ade8a7dadc9ae4bf4a31173708
DTSTAMP:20260422T142919Z
SUMMARY:HDH Protecting Yourself from Fraud and Scams
DESCRIPTION:Jewish Federation of Greater Naples\nCommunity Calendar\nhttps:
 //jewishnaples.org/calendar/hdh-protecting-yourself-from-fraud-and-scams\n
 \nHDH Expanding Horizons is a series of interesting and diverse programs f
 or entertainment and education
DTSTART;TZID=America/New_York:20210803T120000
DTEND;TZID=America/New_York:20210803T140000
END:VEVENT
END:VCALENDAR
