BEGIN:VCALENDAR
PRODID:-//eluceo/ical//2.0/EN
VERSION:2.0
CALSCALE:GREGORIAN
BEGIN:VEVENT
UID:b95d05e4f5708ee521fdbe9c8618be4c
DTSTAMP:20260422T114531Z
SUMMARY:HDH One Book One Hadassah\, Aug. 20
DESCRIPTION:Jewish Federation of Greater Naples\nCommunity Calendar\nhttps:
 //jewishnaples.org/calendar/hdh-one-book-one-hadassah-aug-20\n\nSee above
DTSTART;TZID=America/New_York:20200820T190000
DTEND;TZID=America/New_York:20200820T200000
END:VEVENT
END:VCALENDAR
