BEGIN:VCALENDAR
PRODID:-//eluceo/ical//2.0/EN
VERSION:2.0
CALSCALE:GREGORIAN
BEGIN:VEVENT
UID:38a4c84d2c399ca5f1e7bb14ebcd6dbe
DTSTAMP:20260422T235142Z
SUMMARY:HDH New-Transfer Member Brunch
DESCRIPTION:Jewish Federation of Greater Naples\nCommunity Calendar\nhttps:
 //jewishnaples.org/calendar/hdh-new-transfer-member-brunch-1557772452\n\nS
 ocial brunch reception for new and transfer Hadassah members
DTSTART;TZID=America/New_York:20200301T110000
DTEND;TZID=America/New_York:20200301T130000
END:VEVENT
END:VCALENDAR
