BEGIN:VCALENDAR
PRODID:-//eluceo/ical//2.0/EN
VERSION:2.0
CALSCALE:GREGORIAN
BEGIN:VEVENT
UID:e764c6fe2a41059a6ac7e211fef18591
DTSTAMP:20260422T192156Z
SUMMARY:HDH New Member Brunch Nov.
DESCRIPTION:Jewish Federation of Greater Naples\nCommunity Calendar\nhttps:
 //jewishnaples.org/calendar/hdh-new-member-brunch-nov\n\nHadassah New Memb
 er Brunch
DTSTART;TZID=America/New_York:20171112T113000
DTEND;TZID=America/New_York:20171112T133000
END:VEVENT
END:VCALENDAR
