BEGIN:VCALENDAR
PRODID:-//eluceo/ical//2.0/EN
VERSION:2.0
CALSCALE:GREGORIAN
BEGIN:VEVENT
UID:804a46f16578e733da64c88fc534382d
DTSTAMP:20260420T154929Z
SUMMARY:HDH New Member Brunch
DESCRIPTION:Jewish Federation of Greater Naples\nCommunity Calendar\nhttps:
 //jewishnaples.org/calendar/hdh-new-member-brunch-2\n\nCollier/Lee Chapter
  of Hadassah\n\nNew\, Prospective\, Transfer Member Brunch\, 11:00 am-1:00
  pm
DTSTART;TZID=America/New_York:20190224T110000
DTEND;TZID=America/New_York:20190224T130000
END:VEVENT
END:VCALENDAR
