BEGIN:VCALENDAR
PRODID:-//eluceo/ical//2.0/EN
VERSION:2.0
CALSCALE:GREGORIAN
BEGIN:VEVENT
UID:344c92a27455c2c98973210f22282347
DTSTAMP:20260423T142945Z
SUMMARY:HDH Membership Luncheon
DESCRIPTION:Jewish Federation of Greater Naples\nCommunity Calendar\nhttps:
 //jewishnaples.org/calendar/hdh-membership-luncheon\n\nHadassah
DTSTART;TZID=America/New_York:20170205T113000
DTEND;TZID=America/New_York:20170205T113000
END:VEVENT
END:VCALENDAR
