BEGIN:VCALENDAR
PRODID:-//eluceo/ical//2.0/EN
VERSION:2.0
CALSCALE:GREGORIAN
BEGIN:VEVENT
UID:1954a2957b56f115633cc84ab75cd650
DTSTAMP:20260422T104649Z
SUMMARY:HDH Major Donors & Keepers of the Gate
DESCRIPTION:Jewish Federation of Greater Naples\nCommunity Calendar\nhttps:
 //jewishnaples.org/calendar/hdh-major-donors-keepers-of-the-gate\n\nCollie
 r/Lee Chapter of Hadassah- \n\nMajor Donors\, Keepers of the Gate\, Chai 
 Society Recognition Event-\n\nSun. Dec. 9- Quail West\n\n10:30 AM
DTSTART;TZID=America/New_York:20181209T103000
DTEND;TZID=America/New_York:20181209T120000
END:VEVENT
END:VCALENDAR
