BEGIN:VCALENDAR
PRODID:-//eluceo/ical//2.0/EN
VERSION:2.0
CALSCALE:GREGORIAN
BEGIN:VEVENT
UID:4f259262b72e8e2e3f9fd36c94e2b742
DTSTAMP:20260420T154827Z
SUMMARY:HDH Major Donors
DESCRIPTION:Jewish Federation of Greater Naples\nCommunity Calendar\nhttps:
 //jewishnaples.org/calendar/hdh-major-donors\n\nHadassah
DTSTART;TZID=America/New_York:20161218T113000
DTEND;TZID=America/New_York:20161218T113000
END:VEVENT
END:VCALENDAR
