BEGIN:VCALENDAR
PRODID:-//eluceo/ical//2.0/EN
VERSION:2.0
CALSCALE:GREGORIAN
BEGIN:VEVENT
UID:c003a1a58ad587cc69123d3adc6c8ced
DTSTAMP:20260423T084848Z
SUMMARY:HDH Mahj and Card Party
DESCRIPTION:Jewish Federation of Greater Naples\nCommunity Calendar\nhttps:
 //jewishnaples.org/calendar/hdh-mahj-and-card-party\n\nCollier/Lee Chapter
  of Hadassah
DTSTART;TZID=America/New_York:20190211T113000
DTEND;TZID=America/New_York:20190211T150000
END:VEVENT
END:VCALENDAR
