BEGIN:VCALENDAR
PRODID:-//eluceo/ical//2.0/EN
VERSION:2.0
CALSCALE:GREGORIAN
BEGIN:VEVENT
UID:bcfd5abdba2c078e08b3455dabe41d44
DTSTAMP:20260424T053602Z
SUMMARY:HDH Luncheon
DESCRIPTION:Jewish Federation of Greater Naples\nCommunity Calendar\nhttps:
 //jewishnaples.org/calendar/hdh-luncheon\n\nHadassah
DTSTART;TZID=America/New_York:20170222T113000
DTEND;TZID=America/New_York:20170222T113000
END:VEVENT
END:VCALENDAR
