BEGIN:VCALENDAR
PRODID:-//eluceo/ical//2.0/EN
VERSION:2.0
CALSCALE:GREGORIAN
BEGIN:VEVENT
UID:ad89fbb4e9c52eeb65922e2650c93c21
DTSTAMP:20260423T124831Z
SUMMARY:HDH Lunch & Learn
DESCRIPTION:Jewish Federation of Greater Naples\nCommunity Calendar\nhttps:
 //jewishnaples.org/calendar/hdh-lunch-learn\n\nEmpower the body's natural 
 healing abilities and learn a daily routine you can practice anytime of da
 y. Discover the meaning of "effortless power" and how to strengthen the im
 mune system.
DTSTART;TZID=America/New_York:20220208T110000
DTEND;TZID=America/New_York:20220208T130000
END:VEVENT
END:VCALENDAR
