BEGIN:VCALENDAR
PRODID:-//eluceo/ical//2.0/EN
VERSION:2.0
CALSCALE:GREGORIAN
BEGIN:VEVENT
UID:dd1feb524a2f2dbb44c4624f7660a0dc
DTSTAMP:20260423T023647Z
SUMMARY:HDH Let's Go Shopping
DESCRIPTION:Jewish Federation of Greater Naples\nCommunity Calendar\nhttps:
 //jewishnaples.org/calendar/hdh-lets-go-shopping\n\nShopping at Random Wor
 ks of Art
DTSTART;TZID=America/New_York:20190618T120000
DTEND;TZID=America/New_York:20190618T190000
END:VEVENT
END:VCALENDAR
