BEGIN:VCALENDAR
PRODID:-//eluceo/ical//2.0/EN
VERSION:2.0
CALSCALE:GREGORIAN
BEGIN:VEVENT
UID:7b5a6b45d583e642527e209ff0d5d73a
DTSTAMP:20260423T092041Z
SUMMARY:HDH League of Women Voters Event
DESCRIPTION:Jewish Federation of Greater Naples\nCommunity Calendar\nhttps:
 //jewishnaples.org/calendar/hdh-league-of-women-voters-event\n\nHadassah E
 vent
DTSTART;TZID=America/New_York:20221019T113000
DTEND;TZID=America/New_York:20221019T133500
END:VEVENT
END:VCALENDAR
