BEGIN:VCALENDAR
PRODID:-//eluceo/ical//2.0/EN
VERSION:2.0
CALSCALE:GREGORIAN
BEGIN:VEVENT
UID:1f493a60cdb0d1c733818c58322412a5
DTSTAMP:20260421T195601Z
SUMMARY:HDH Knowledge & Nosh
DESCRIPTION:Jewish Federation of Greater Naples\nCommunity Calendar\nhttps:
 //jewishnaples.org/calendar/hdh-knowledge-nosh\n\nCollier/Lee Chapter of H
 adassah\n\nKnowledge & Nosh\n\n 
DTSTART;TZID=America/New_York:20181127T110000
DTEND;TZID=America/New_York:20181127T140000
END:VEVENT
END:VCALENDAR
