BEGIN:VCALENDAR
PRODID:-//eluceo/ical//2.0/EN
VERSION:2.0
CALSCALE:GREGORIAN
BEGIN:VEVENT
UID:c84c4901ad9faaa91f1824ed8af89933
DTSTAMP:20260424T150441Z
SUMMARY:HDH Knowledge and Nosh
DESCRIPTION:Jewish Federation of Greater Naples\nCommunity Calendar\nhttps:
 //jewishnaples.org/calendar/hdh-knowledge-and-nosh-1562348410\n\nLunch and
  an educational program
DTSTART;TZID=America/New_York:20191204T113000
DTEND;TZID=America/New_York:20191204T140000
END:VEVENT
END:VCALENDAR
