BEGIN:VCALENDAR
PRODID:-//eluceo/ical//2.0/EN
VERSION:2.0
CALSCALE:GREGORIAN
BEGIN:VEVENT
UID:1b63fa06caae02f09660ccd4e96b7272
DTSTAMP:20260424T031800Z
SUMMARY:HDH Keepers of the Gate Event
DESCRIPTION:Jewish Federation of Greater Naples\nCommunity Calendar\nhttps:
 //jewishnaples.org/calendar/hdh-keepers-of-the-gate-event-1561039011\n\nHa
 dassah Contact for time and details
DTSTART;TZID=America/New_York:20201213T140000
DTEND;TZID=America/New_York:20201213T160000
END:VEVENT
END:VCALENDAR
