BEGIN:VCALENDAR
PRODID:-//eluceo/ical//2.0/EN
VERSION:2.0
CALSCALE:GREGORIAN
BEGIN:VEVENT
UID:d1bad80646e437bc491a05bfd6d0da84
DTSTAMP:20260423T004426Z
SUMMARY:HDH JNF Blue Box Luncheon
DESCRIPTION:Jewish Federation of Greater Naples\nCommunity Calendar\nhttps:
 //jewishnaples.org/calendar/hdh-jnf-blue-box-luncheon-1561038758\n\nHadass
 ah
DTSTART;TZID=America/New_York:20201016T110000
DTEND;TZID=America/New_York:20201016T130000
END:VEVENT
END:VCALENDAR
