BEGIN:VCALENDAR
PRODID:-//eluceo/ical//2.0/EN
VERSION:2.0
CALSCALE:GREGORIAN
BEGIN:VEVENT
UID:bd2663e233329b5eecad3f514edc0a77
DTSTAMP:20260420T122952Z
SUMMARY:HDH Installation of Officers :  Ellen Katz presents the musical CHI
 CAGO
DESCRIPTION:Jewish Federation of Greater Naples\nCommunity Calendar\nhttps:
 //jewishnaples.org/calendar/hdh-installation-of-officers---ellen-katz-pres
 ents-the-musical-chicago-1606940106\n\nFollowing the Installation\, Ellen 
 Katz will celebrate Broadway  featuring the \nlongest running musical in B
 roadway history\, CHICAGO.
DTSTART;TZID=America/New_York:20210120T100000
DTEND;TZID=America/New_York:20210120T113000
END:VEVENT
END:VCALENDAR
