BEGIN:VCALENDAR
PRODID:-//eluceo/ical//2.0/EN
VERSION:2.0
CALSCALE:GREGORIAN
BEGIN:VEVENT
UID:020694bde5611ace7989e8cb9f836767
DTSTAMP:20260422T013345Z
SUMMARY:HDH Installation Luncheon and Fashion Show
DESCRIPTION:Jewish Federation of Greater Naples\nCommunity Calendar\nhttps:
 //jewishnaples.org/calendar/hdh-installation-luncheon-and-fashion-show-155
 7766976\n\nHadassah Installation of Officers\nFashion Show by Rebecca's
DTSTART;TZID=America/New_York:20200123T104500
DTEND;TZID=America/New_York:20200123T140000
END:VEVENT
END:VCALENDAR
