BEGIN:VCALENDAR
PRODID:-//eluceo/ical//2.0/EN
VERSION:2.0
CALSCALE:GREGORIAN
BEGIN:VEVENT
UID:34666ca81092561461ea884e90cbc848
DTSTAMP:20260422T065243Z
SUMMARY:HDH INSPIRING WOMEN\, Feb 26
DESCRIPTION:Jewish Federation of Greater Naples\nCommunity Calendar\nhttps:
 //jewishnaples.org/calendar/hdh-inspiring-women-feb-26\n\nThis event will 
 honor women who make a difference in through their work\, volunteering\, l
 eadership and skills in their organizations\, workplaces and the community
 . Honorees will be presented the Lynn Wilner Award.
DTSTART;TZID=America/New_York:20230226T110000
DTEND;TZID=America/New_York:20230226T130000
END:VEVENT
END:VCALENDAR
