BEGIN:VCALENDAR
PRODID:-//eluceo/ical//2.0/EN
VERSION:2.0
CALSCALE:GREGORIAN
BEGIN:VEVENT
UID:264ff5b503af8b08db268bcccc77e463
DTSTAMP:20260420T173700Z
SUMMARY:HDH INSPIRING WOMEN
DESCRIPTION:Jewish Federation of Greater Naples\nCommunity Calendar\nhttps:
 //jewishnaples.org/calendar/hdh-inspiring-women\n\nCollier/Lee Hadassah Ev
 ent. March is women's history month and Hadassah has and is inspiring wome
 n. Recognition will be given to those individuals or groups that meet crit
 eria that will be determined.
DTSTART;TZID=America/New_York:20220313T110000
DTEND;TZID=America/New_York:20220313T140000
END:VEVENT
END:VCALENDAR
