BEGIN:VCALENDAR
PRODID:-//eluceo/ical//2.0/EN
VERSION:2.0
CALSCALE:GREGORIAN
BEGIN:VEVENT
UID:4868f84e2dbb04f14c9bd73bbb39409e
DTSTAMP:20260423T145225Z
SUMMARY:HDH Fall Luncheon &Crafty Women Boutique
DESCRIPTION:Jewish Federation of Greater Naples\nCommunity Calendar\nhttps:
 //jewishnaples.org/calendar/hdh-fall-luncheon-crafty-women-boutique-161963
 8645\n\nHDH Fall Luncheon &Crafty Women Boutique
DTSTART;TZID=America/New_York:20221115T111500
DTEND;TZID=America/New_York:20221115T141500
END:VEVENT
END:VCALENDAR
