BEGIN:VCALENDAR
PRODID:-//eluceo/ical//2.0/EN
VERSION:2.0
CALSCALE:GREGORIAN
BEGIN:VEVENT
UID:32eea41de39288f7a9fa49f330f17860
DTSTAMP:20260423T181709Z
SUMMARY:HDH Expanding Horizons Series - Fall Meeting and Speaker
DESCRIPTION:Jewish Federation of Greater Naples\nCommunity Calendar\nhttps:
 //jewishnaples.org/calendar/hdh-expanding-horizons-series---fall-meeting-a
 nd-speaker-1594149625\n\nKathy Feinstein will present "The Mental Edge: Re
 silience - Coping with Difficult Times
DTSTART;TZID=America/New_York:20201116T110000
DTEND;TZID=America/New_York:20201116T130000
END:VEVENT
END:VCALENDAR
