BEGIN:VCALENDAR
PRODID:-//eluceo/ical//2.0/EN
VERSION:2.0
CALSCALE:GREGORIAN
BEGIN:VEVENT
UID:80f868de7e723ff7e0304b6311729112
DTSTAMP:20260422T120925Z
SUMMARY:HDH Expanding Horizons III
DESCRIPTION:Jewish Federation of Greater Naples\nCommunity Calendar\nhttps:
 //jewishnaples.org/calendar/hdh-expanding-horizons-iii-1630184480\n\nSpeak
 er to be determined
DTSTART;TZID=America/New_York:20220914T103000
DTEND;TZID=America/New_York:20220914T123000
END:VEVENT
END:VCALENDAR
