BEGIN:VCALENDAR
PRODID:-//eluceo/ical//2.0/EN
VERSION:2.0
CALSCALE:GREGORIAN
BEGIN:VEVENT
UID:a19ed1ba1f0036bea2dc4e5b26824e5a
DTSTAMP:20260423T221258Z
SUMMARY:HDH Expanding Horizons III
DESCRIPTION:Jewish Federation of Greater Naples\nCommunity Calendar\nhttps:
 //jewishnaples.org/calendar/hdh-expanding-horizons-iii-1625682100\n\nAn ed
 ucational\, entertaining Speaker Series on Zoom. \n\nSpeaker and program:
 \n\nGayle Dorio presenting "Behind the Scenes at the Jewish Book Festival"
 \n\n 
DTSTART;TZID=America/New_York:20221006T103000
DTEND;TZID=America/New_York:20221006T123000
END:VEVENT
END:VCALENDAR
