BEGIN:VCALENDAR
PRODID:-//eluceo/ical//2.0/EN
VERSION:2.0
CALSCALE:GREGORIAN
BEGIN:VEVENT
UID:75acc65e6e58a550823654274ae4445c
DTSTAMP:20260423T025651Z
SUMMARY:HDH Expanding Horizons III
DESCRIPTION:Jewish Federation of Greater Naples\nCommunity Calendar\nhttps:
 //jewishnaples.org/calendar/hdh-expanding-horizons-iii-1625681004\n\nAn ed
 ucational and entertaining speaker series on Zoom
DTSTART;TZID=America/New_York:20210914T103000
DTEND;TZID=America/New_York:20210914T123000
END:VEVENT
END:VCALENDAR
