BEGIN:VCALENDAR
PRODID:-//eluceo/ical//2.0/EN
VERSION:2.0
CALSCALE:GREGORIAN
BEGIN:VEVENT
UID:86348470625cc0d437e2d35fa86c0cd1
DTSTAMP:20260422T104951Z
SUMMARY:HDH Expanding Horizons
DESCRIPTION:Jewish Federation of Greater Naples\nCommunity Calendar\nhttps:
 //jewishnaples.org/calendar/hdh-expanding-horizons-1603388224\n\nPresentat
 ion by Mandy Slutsker re: World Health Issues
DTSTART;TZID=America/New_York:20210224T110000
DTEND;TZID=America/New_York:20210224T120000
END:VEVENT
END:VCALENDAR
