BEGIN:VCALENDAR
PRODID:-//eluceo/ical//2.0/EN
VERSION:2.0
CALSCALE:GREGORIAN
BEGIN:VEVENT
UID:4c936aae69d2d8b871a55764e4da69ee
DTSTAMP:20260422T145222Z
SUMMARY:HDH Expanding Horizons - The Artist Speaks
DESCRIPTION:Jewish Federation of Greater Naples\nCommunity Calendar\nhttps:
 //jewishnaples.org/calendar/hdh-expanding-horizons---the-artist-speaks-159
 4151172\n\nDale will discuss why art is important in our lives and provide
  a virtual tour of her work.
DTSTART;TZID=America/New_York:20200831T103000
DTEND;TZID=America/New_York:20200831T113000
END:VEVENT
END:VCALENDAR
