BEGIN:VCALENDAR
PRODID:-//eluceo/ical//2.0/EN
VERSION:2.0
CALSCALE:GREGORIAN
BEGIN:VEVENT
UID:55ecd629fb01f7aa4ae92bf17f4bb6a1
DTSTAMP:20260422T064951Z
SUMMARY:HDH Expanding Horizons - "Remember the Ladies
DESCRIPTION:Jewish Federation of Greater Naples\nCommunity Calendar\nhttps:
 //jewishnaples.org/calendar/hdh-expanding-horizons---remember-the-ladies-1
 606940667\n\nAn entertaining and interesting look at some of America&#039\
 ;s First Ladies
DTSTART;TZID=America/New_York:20210405T103000
DTEND;TZID=America/New_York:20210405T113000
END:VEVENT
END:VCALENDAR
