BEGIN:VCALENDAR
PRODID:-//eluceo/ical//2.0/EN
VERSION:2.0
CALSCALE:GREGORIAN
BEGIN:VEVENT
UID:a0b4685d9903535b70ee29604e72448b
DTSTAMP:20260423T092832Z
SUMMARY:HDH Expanding Horizons -  Dessert Anyone?
DESCRIPTION:Jewish Federation of Greater Naples\nCommunity Calendar\nhttps:
 //jewishnaples.org/calendar/hdh-expanding-horizons----dessert-anyone-16069
 44053\n\nBakery Chef Stephani Schwartz will demonstration preparation of a
  dessert.\nAttendees names will be entered into a drawing prize. The winne
 r will receive the dessert\ndelivered - within Collier &amp\; Lee Counties
 .
DTSTART;TZID=America/New_York:20210503T153000
DTEND;TZID=America/New_York:20210503T163000
END:VEVENT
END:VCALENDAR
