BEGIN:VCALENDAR
PRODID:-//eluceo/ical//2.0/EN
VERSION:2.0
CALSCALE:GREGORIAN
BEGIN:VEVENT
UID:93a5cd05248f6ac62dd8fd3450dbdd87
DTSTAMP:20260423T205728Z
SUMMARY:HDH Chanukah Party
DESCRIPTION:Jewish Federation of Greater Naples\nCommunity Calendar\nhttps:
 //jewishnaples.org/calendar/hdh-chanukah-party\n\nCollier/Lee Chapter of H
 adassah\n\nEvening Group Chanukah Party\n\n6:30-9:30 PM
DTSTART;TZID=America/New_York:20181205T183000
DTEND;TZID=America/New_York:20181205T213000
END:VEVENT
END:VCALENDAR
