BEGIN:VCALENDAR
PRODID:-//eluceo/ical//2.0/EN
VERSION:2.0
CALSCALE:GREGORIAN
BEGIN:VEVENT
UID:1ea2ff5c852774ec996f84518a071c34
DTSTAMP:20260422T105312Z
SUMMARY:HDH Associates Spring Brunch
DESCRIPTION:Jewish Federation of Greater Naples\nCommunity Calendar\nhttps:
 //jewishnaples.org/calendar/hdh-associates-spring-brunch-1583417572\n\n Ed
 ucational program for Hadassah Associates offering The Mel Toub Lecture &a
 mp\; Discussion on relevant\, current topics
DTSTART;TZID=America/New_York:20210310T103000
DTEND;TZID=America/New_York:20210310T120000
END:VEVENT
END:VCALENDAR
