BEGIN:VCALENDAR
PRODID:-//eluceo/ical//2.0/EN
VERSION:2.0
CALSCALE:GREGORIAN
BEGIN:VEVENT
UID:cec6c879f8482fde2762d4c7e3cf2ca5
DTSTAMP:20260423T223551Z
SUMMARY:Hadassah Spring Luncheon
DESCRIPTION:Jewish Federation of Greater Naples\nCommunity Calendar\nhttps:
 //jewishnaples.org/calendar/hadassah-spring-luncheon-1526657289\n\nHadassa
 h Spring Lunchon\n\nCollier/Lee Chapter of Hadassah
DTSTART;TZID=America/New_York:20190319T104500
DTEND;TZID=America/New_York:20190319T140000
END:VEVENT
END:VCALENDAR
