BEGIN:VCALENDAR
PRODID:-//eluceo/ical//2.0/EN
VERSION:2.0
CALSCALE:GREGORIAN
BEGIN:VEVENT
UID:ec7849d32a574f26e0c9dc919c8dbf86
DTSTAMP:20260422T190712Z
SUMMARY:Hadassah Meetings
DESCRIPTION:Jewish Federation of Greater Naples\nCommunity Calendar\nhttps:
 //jewishnaples.org/calendar/hadassah-meetings\n\nHadassah Meetings
DTSTART;TZID=America/New_York:20180108T110000
DTEND;TZID=America/New_York:20180108T120000
END:VEVENT
END:VCALENDAR
