BEGIN:VCALENDAR
PRODID:-//eluceo/ical//2.0/EN
VERSION:2.0
CALSCALE:GREGORIAN
BEGIN:VEVENT
UID:cde2963fa9237a469632cefad80df494
DTSTAMP:20260420T053111Z
SUMMARY:Hadassah Luncheon
DESCRIPTION:Jewish Federation of Greater Naples\nCommunity Calendar\nhttps:
 //jewishnaples.org/calendar/hadassah-luncheon-1747417831\n\nHadassah Lunch
DTSTART;TZID=America/New_York:20260309T100000
DTEND;TZID=America/New_York:20260309T130000
END:VEVENT
END:VCALENDAR
