BEGIN:VCALENDAR
PRODID:-//eluceo/ical//2.0/EN
VERSION:2.0
CALSCALE:GREGORIAN
BEGIN:VEVENT
UID:5e68d34a8bd5c86d2dfc813cd102300d
DTSTAMP:20260422T194559Z
SUMMARY:Hadassah Luncheon
DESCRIPTION:Jewish Federation of Greater Naples\nCommunity Calendar\nhttps:
 //jewishnaples.org/calendar/hadassah-luncheon\n\nHadassah Luncheon\n\nStay
  tuned for more details!
DTSTART;TZID=America/New_York:20180314T104500
DTEND;TZID=America/New_York:20180314T140000
END:VEVENT
END:VCALENDAR
