BEGIN:VCALENDAR
PRODID:-//eluceo/ical//2.0/EN
VERSION:2.0
CALSCALE:GREGORIAN
BEGIN:VEVENT
UID:ac4c81c7fea7e52679931ef2f529077d
DTSTAMP:20260423T125615Z
SUMMARY:Hadassah Inspiring Women Luncheon 2025
DESCRIPTION:Jewish Federation of Greater Naples\nCommunity Calendar\nhttps:
 //jewishnaples.org/calendar/hadassah-inspiring-women-luncheon-2025-1714748
 819\n\nThis annual  event is a celebration of nominated and selected women
  who have used their knowledge\, skills and generosity to make a differenc
 e in their work\, volunteering or philanthropy for our communities at larg
 e.
DTSTART;TZID=America/New_York:20250202T110000
DTEND;TZID=America/New_York:20250202T133000
END:VEVENT
END:VCALENDAR
