BEGIN:VCALENDAR
PRODID:-//eluceo/ical//2.0/EN
VERSION:2.0
CALSCALE:GREGORIAN
BEGIN:VEVENT
UID:dd4d188da061a2c461553d698e51db8a
DTSTAMP:20260420T144903Z
SUMMARY:Hadassah in America
DESCRIPTION:Jewish Federation of Greater Naples\nCommunity Calendar\nhttps:
 //jewishnaples.org/calendar/hadassah-in-america-1616605476\n\nSpeaker will
  discuss how Hadassah Medical Organization benefits the health and well-be
 ing of Americans.
DTSTART;TZID=America/New_York:20210708T223000
DTEND;TZID=America/New_York:20210708T235900
END:VEVENT
END:VCALENDAR
