BEGIN:VCALENDAR
PRODID:-//eluceo/ical//2.0/EN
VERSION:2.0
CALSCALE:GREGORIAN
BEGIN:VEVENT
UID:7cf2b96d928ca3f9c6ba0b22b9701266
DTSTAMP:20260423T174653Z
SUMMARY:Hadassah Fall Meeting
DESCRIPTION:Jewish Federation of Greater Naples\nCommunity Calendar\nhttps:
 //jewishnaples.org/calendar/hadassah-fall-meeting-1714747827\n\nThe Lunche
 on will feature the Annual Artisan Showcase and a panel discussion on Anti
 semitism in the Media
DTSTART;TZID=America/New_York:20241113T100000
DTEND;TZID=America/New_York:20241113T140000
END:VEVENT
END:VCALENDAR
