BEGIN:VCALENDAR
PRODID:-//eluceo/ical//2.0/EN
VERSION:2.0
CALSCALE:GREGORIAN
BEGIN:VEVENT
UID:70f22601d13a9096ab216c474ba4defe
DTSTAMP:20260422T111103Z
SUMMARY:Hadassah Fall Luncheon and Crafty Women Boutique
DESCRIPTION:Jewish Federation of Greater Naples\nCommunity Calendar\nhttps:
 //jewishnaples.org/calendar/hadassah-fall-luncheon-and-crafty-women-boutiq
 ue-1662398033\n\nFall Business Meeting and display and sale of handmade cr
 afts from local women.
DTSTART;TZID=America/New_York:20231115T104500
DTEND;TZID=America/New_York:20231115T124500
END:VEVENT
END:VCALENDAR
