BEGIN:VCALENDAR
PRODID:-//eluceo/ical//2.0/EN
VERSION:2.0
CALSCALE:GREGORIAN
BEGIN:VEVENT
UID:a6193046a1ccfa6a76ed9b1d1fc9a588
DTSTAMP:20260422T201453Z
SUMMARY:Hadassah Fall Luncheon
DESCRIPTION:Jewish Federation of Greater Naples\nCommunity Calendar\nhttps:
 //jewishnaples.org/calendar/hadassah-fall-luncheon-1756680450\n\nThe lunch
 eon is planned t o educate attendees about how difficult it is for Jewish 
 people around the world. There will be a question & answer session as well
 .
DTSTART;TZID=America/New_York:20251117T101500
DTEND;TZID=America/New_York:20251117T140000
END:VEVENT
END:VCALENDAR
