BEGIN:VCALENDAR
PRODID:-//eluceo/ical//2.0/EN
VERSION:2.0
CALSCALE:GREGORIAN
BEGIN:VEVENT
UID:045397fc5af66c2c524874cae5b703d8
DTSTAMP:20260421T232140Z
SUMMARY:Hadassah Collier/Lee Chapter Spring Luncheon
DESCRIPTION:Jewish Federation of Greater Naples\nCommunity Calendar\nhttps:
 //jewishnaples.org/calendar/hadassah-collierlee-chapter-spring-luncheon\n\
 nHadassah Collier/Lee Chapter\n\nSpring Luncheon\n\n10:45-2:00 pm\n\nThe C
 lub at Olde Cypress
DTSTART;TZID=America/New_York:20180308T104500
DTEND;TZID=America/New_York:20180308T140000
END:VEVENT
END:VCALENDAR
