BEGIN:VCALENDAR
PRODID:-//eluceo/ical//2.0/EN
VERSION:2.0
CALSCALE:GREGORIAN
BEGIN:VEVENT
UID:17098f9e006a4ff1bc7fbb264e6ec99c
DTSTAMP:20260423T152133Z
SUMMARY:Hadassah Collier/Lee Chapter Major Fundraiser
DESCRIPTION:Jewish Federation of Greater Naples\nCommunity Calendar\nhttps:
 //jewishnaples.org/calendar/hadassah-collierlee-chapter-major-fundraiser\n
 \nHadassah Collier/Lee Chapter\n\nMajor Fundraiser\n\n10-1:30 pm\n\nHadass
 ah Celebrates Israel's 70th Birthday at Hilton Naples!
DTSTART;TZID=America/New_York:20180225T100000
DTEND;TZID=America/New_York:20180225T133000
END:VEVENT
END:VCALENDAR
